Workbook

Sheet CONCENTRADO CALIDAD SERVICIO
A1: JUNTA LOCAL EJECUTIVA
Z2: Colocar el Nombre de la Entidad
U3: Vocalía del Registro Federal de Electores
B4: Distrito | C4: 0 | G4: Módulo | L4: Primero Cuatrimestre | P4: Bitácora de Desempeño Módulos de Atención Ciudadana Calidad en el Servicio
G5: ENE-ABR | H5: MAY-AGO | I5: SEP-DIC | L5: Segundo Cuatrimestre
B6: Periodo de verificación | C6: Cuatrimestre | L6: Tercer Cuatrimestre | N6: Año | P6: 2025 | Z6: Versión: 6.6
G7: Marca con una x | Z7: Fecha Emisión: Agosto 2024
A8: No. | B8: Nombre | C8: Cargo | G8: Puntualidad | J8: Calidad en el Servicio | M8: Vestuario Institucional | P8: Calidad en la captura de trámite de la CPV | S8: Productividad | V8: Promedio del Primer Cuatrimestre | W8: Promedio del Segundo Cuatrimestre | X8: Promedio del Tercer Cuatrimestre | Y8: Promedio de Desempeño Anual | Z8: Firma de conocimiento | AA8: Obsevaciones
C9: Marca con una x | G9: Total y parcial prestación del servicio registrados | J9: Quejas ciudadanas registradas al MAC | M9: Observaciones en el uso de indumentaria | P9: Observación y omisiones de procedimientos | S9: Tiempo total de captura
C10: RM | D10: OET | E10: AAC | F10: DMI | G10: 1 er | H10: 2 do | I10: 3 er | J10: 1 er | K10: 2 do | L10: 3 er | M10: 1 er | N10: 2 do | O10: 3 er | P10: 1 er | Q10: 2 do | R10: 3 er | S10: 1 er | T10: 2 do | U10: 3 er
A11: 1 | B11: NOMBRE DEL FUNCIONARIO | G11: =PUNTUALIDAD!K12 -> 10 | H11: =PUNTUALIDAD!T12 -> 10 | I11: =PUNTUALIDAD!AC12 -> 10 | J11: ='CALIDAD EN EL SERVICIO'!G$18 -> 10 | K11: ='CALIDAD EN EL SERVICIO'!G$23 -> 10 | L11: ='CALIDAD EN EL SERVICIO'!G$28 -> 10 | M11: ='VESTUARIO INSTITUCIONAL'!G12 -> 10 | N11: ='VESTUARIO INSTITUCIONAL'!L12 -> 10 | O11: ='VESTUARIO INSTITUCIONAL'!Q12 -> 10 | P11: ='CAPTURA DE TRAMITE'!G12 -> 10 | Q11: ='CAPTURA DE TRAMITE'!L12 -> 10 | R11: ='CAPTURA DE TRAMITE'!Q12 -> 10 | S11: =PRODUCTIVIDAD!N12 -> 10 | T11: =PRODUCTIVIDAD!Z12 -> 10 | U11: =PRODUCTIVIDAD!AL12 -> 10 | V11: =SUM(G11,J11,M11,P11,S11)/5 -> 10 | W11: =SUM(H11,K11,N11,Q11,T11)/5 -> 10 | X11: =SUM(I11,L11,O11,R11,U11)/5 -> 10 | Y11: =AVERAGE(V11:X11) -> 10
A12: 2 | B12: NOMBRE DEL FUNCIONARIO | G12: =PUNTUALIDAD!K13 -> 10 | H12: =PUNTUALIDAD!T13 -> 10 | I12: =PUNTUALIDAD!AC13 -> 10 | J12: ='CALIDAD EN EL SERVICIO'!G$18 -> 10 | K12: ='CALIDAD EN EL SERVICIO'!G$23 -> 10 | L12: ='CALIDAD EN EL SERVICIO'!G$28 -> 10 | M12: ='VESTUARIO INSTITUCIONAL'!G13 -> 10 | N12: ='VESTUARIO INSTITUCIONAL'!L13 -> 10 | O12: ='VESTUARIO INSTITUCIONAL'!Q13 -> 10 | P12: ='CAPTURA DE TRAMITE'!G13 -> 10 | Q12: ='CAPTURA DE TRAMITE'!L13 -> 10 | R12: ='CAPTURA DE TRAMITE'!Q13 -> 10 | S12: =PRODUCTIVIDAD!N13 -> 10 | T12: =PRODUCTIVIDAD!Z13 -> 10 | U12: =PRODUCTIVIDAD!AL13 -> 10 | V12: =SUM(G12,J12,M12,P12,S12)/5 -> 10 | W12: =SUM(H12,K12,N12,Q12,T12)/5 -> 10 | X12: =SUM(I12,L12,O12,R12,U12)/5 -> 10 | Y12: =AVERAGE(V12:X12) -> 10
A13: 3 | B13: NOMBRE DEL FUNCIONARIO | G13: =PUNTUALIDAD!K14 -> 10 | H13: =PUNTUALIDAD!T14 -> 10 | I13: =PUNTUALIDAD!AC14 -> 10 | J13: ='CALIDAD EN EL SERVICIO'!G$18 -> 10 | K13: ='CALIDAD EN EL SERVICIO'!G$23 -> 10 | L13: ='CALIDAD EN EL SERVICIO'!G$28 -> 10 | M13: ='VESTUARIO INSTITUCIONAL'!G14 -> 10 | N13: ='VESTUARIO INSTITUCIONAL'!L14 -> 10 | O13: ='VESTUARIO INSTITUCIONAL'!Q14 -> 10 | P13: ='CAPTURA DE TRAMITE'!G14 -> 10 | Q13: ='CAPTURA DE TRAMITE'!L14 -> 10 | R13: ='CAPTURA DE TRAMITE'!Q14 -> 10 | S13: =PRODUCTIVIDAD!N14 -> 10 | T13: =PRODUCTIVIDAD!Z14 -> 10 | U13: =PRODUCTIVIDAD!AL14 -> 10 | V13: =SUM(G13,J13,M13,P13,S13)/5 -> 10 | W13: =SUM(H13,K13,N13,Q13,T13)/5 -> 10 | X13: =SUM(I13,L13,O13,R13,U13)/5 -> 10 | Y13: =AVERAGE(V13:X13) -> 10
A14: 4 | B14: NOMBRE DEL FUNCIONARIO | G14: =PUNTUALIDAD!K15 -> 10 | H14: =PUNTUALIDAD!T15 -> 10 | I14: =PUNTUALIDAD!AC15 -> 10 | J14: ='CALIDAD EN EL SERVICIO'!G$18 -> 10 | K14: ='CALIDAD EN EL SERVICIO'!G$23 -> 10 | L14: ='CALIDAD EN EL SERVICIO'!G$28 -> 10 | M14: ='VESTUARIO INSTITUCIONAL'!G15 -> 10 | N14: ='VESTUARIO INSTITUCIONAL'!L15 -> 10 | O14: ='VESTUARIO INSTITUCIONAL'!Q15 -> 10 | P14: ='CAPTURA DE TRAMITE'!G15 -> 10 | Q14: ='CAPTURA DE TRAMITE'!L15 -> 10 | R14: ='CAPTURA DE TRAMITE'!Q15 -> 10 | S14: =PRODUCTIVIDAD!N15 -> 10 | T14: =PRODUCTIVIDAD!Z15 -> 10 | U14: =PRODUCTIVIDAD!AL15 -> 10 | V14: =SUM(G14,J14,M14,P14,S14)/5 -> 10 | W14: =SUM(H14,K14,N14,Q14,T14)/5 -> 10 | X14: =SUM(I14,L14,O14,R14,U14)/5 -> 10 | Y14: =AVERAGE(V14:X14) -> 10
A15: 5 | B15: NOMBRE DEL FUNCIONARIO | G15: =PUNTUALIDAD!K16 -> 10 | H15: =PUNTUALIDAD!T16 -> 10 | I15: =PUNTUALIDAD!AC16 -> 10 | J15: ='CALIDAD EN EL SERVICIO'!G$18 -> 10 | K15: ='CALIDAD EN EL SERVICIO'!G$23 -> 10 | L15: ='CALIDAD EN EL SERVICIO'!G$28 -> 10 | M15: ='VESTUARIO INSTITUCIONAL'!G16 -> 10 | N15: ='VESTUARIO INSTITUCIONAL'!L16 -> 10 | O15: ='VESTUARIO INSTITUCIONAL'!Q16 -> 10 | P15: ='CAPTURA DE TRAMITE'!G16 -> 10 | Q15: ='CAPTURA DE TRAMITE'!L16 -> 10 | R15: ='CAPTURA DE TRAMITE'!Q16 -> 10 | S15: =PRODUCTIVIDAD!N16 -> 10 | T15: =PRODUCTIVIDAD!Z16 -> 10 | U15: =PRODUCTIVIDAD!AL16 -> 10 | V15: =SUM(G15,J15,M15,P15,S15)/5 -> 10 | W15: =SUM(H15,K15,N15,Q15,T15)/5 -> 10 | X15: =SUM(I15,L15,O15,R15,U15)/5 -> 10 | Y15: =AVERAGE(V15:X15) -> 10
A16: 6 | B16: NOMBRE DEL FUNCIONARIO | G16: =PUNTUALIDAD!K17 -> 10 | H16: =PUNTUALIDAD!T17 -> 10 | I16: =PUNTUALIDAD!AC17 -> 10 | J16: ='CALIDAD EN EL SERVICIO'!G$18 -> 10 | K16: ='CALIDAD EN EL SERVICIO'!G$23 -> 10 | L16: ='CALIDAD EN EL SERVICIO'!G$28 -> 10 | M16: ='VESTUARIO INSTITUCIONAL'!G17 -> 10 | N16: ='VESTUARIO INSTITUCIONAL'!L17 -> 10 | O16: ='VESTUARIO INSTITUCIONAL'!Q17 -> 10 | P16: ='CAPTURA DE TRAMITE'!G17 -> 10 | Q16: ='CAPTURA DE TRAMITE'!L17 -> 10 | R16: ='CAPTURA DE TRAMITE'!Q17 -> 10 | S16: =PRODUCTIVIDAD!N17 -> 10 | T16: =PRODUCTIVIDAD!Z17 -> 10 | U16: =PRODUCTIVIDAD!AL17 -> 10 | V16: =SUM(G16,J16,M16,P16,S16)/5 -> 10 | W16: =SUM(H16,K16,N16,Q16,T16)/5 -> 10 | X16: =SUM(I16,L16,O16,R16,U16)/5 -> 10 | Y16: =AVERAGE(V16:X16) -> 10
A17: 7 | B17: NOMBRE DEL FUNCIONARIO | G17: =PUNTUALIDAD!K18 -> 10 | H17: =PUNTUALIDAD!T18 -> 10 | I17: =PUNTUALIDAD!AC18 -> 10 | J17: ='CALIDAD EN EL SERVICIO'!G$18 -> 10 | K17: ='CALIDAD EN EL SERVICIO'!G$23 -> 10 | L17: ='CALIDAD EN EL SERVICIO'!G$28 -> 10 | M17: ='VESTUARIO INSTITUCIONAL'!G18 -> 10 | N17: ='VESTUARIO INSTITUCIONAL'!L18 -> 10 | O17: ='VESTUARIO INSTITUCIONAL'!Q18 -> 10 | P17: ='CAPTURA DE TRAMITE'!G18 -> 10 | Q17: ='CAPTURA DE TRAMITE'!L18 -> 10 | R17: ='CAPTURA DE TRAMITE'!Q18 -> 10 | S17: =PRODUCTIVIDAD!N18 -> 10 | T17: =PRODUCTIVIDAD!Z18 -> 10 | U17: =PRODUCTIVIDAD!AL18 -> 10 | V17: =SUM(G17,J17,M17,P17,S17)/5 -> 10 | W17: =SUM(H17,K17,N17,Q17,T17)/5 -> 10 | X17: =SUM(I17,L17,O17,R17,U17)/5 -> 10 | Y17: =AVERAGE(V17:X17) -> 10
A18: 8 | B18: NOMBRE DEL FUNCIONARIO | G18: =PUNTUALIDAD!K19 -> 10 | H18: =PUNTUALIDAD!T19 -> 10 | I18: =PUNTUALIDAD!AC19 -> 10 | J18: ='CALIDAD EN EL SERVICIO'!G$18 -> 10 | K18: ='CALIDAD EN EL SERVICIO'!G$23 -> 10 | L18: ='CALIDAD EN EL SERVICIO'!G$28 -> 10 | M18: ='VESTUARIO INSTITUCIONAL'!G19 -> 10 | N18: ='VESTUARIO INSTITUCIONAL'!L19 -> 10 | O18: ='VESTUARIO INSTITUCIONAL'!Q19 -> 10 | P18: ='CAPTURA DE TRAMITE'!G19 -> 10 | Q18: ='CAPTURA DE TRAMITE'!L19 -> 10 | R18: ='CAPTURA DE TRAMITE'!Q19 -> 10 | S18: =PRODUCTIVIDAD!N19 -> 10 | T18: =PRODUCTIVIDAD!Z19 -> 10 | U18: =PRODUCTIVIDAD!AL19 -> 10 | V18: =SUM(G18,J18,M18,P18,S18)/5 -> 10 | W18: =SUM(H18,K18,N18,Q18,T18)/5 -> 10 | X18: =SUM(I18,L18,O18,R18,U18)/5 -> 10 | Y18: =AVERAGE(V18:X18) -> 10
A19: 9 | B19: NOMBRE DEL FUNCIONARIO | G19: =PUNTUALIDAD!K20 -> 10 | H19: =PUNTUALIDAD!T20 -> 10 | I19: =PUNTUALIDAD!AC20 -> 10 | J19: ='CALIDAD EN EL SERVICIO'!G$18 -> 10 | K19: ='CALIDAD EN EL SERVICIO'!G$23 -> 10 | L19: ='CALIDAD EN EL SERVICIO'!G$28 -> 10 | M19: ='VESTUARIO INSTITUCIONAL'!G20 -> 10 | N19: ='VESTUARIO INSTITUCIONAL'!L20 -> 10 | O19: ='VESTUARIO INSTITUCIONAL'!Q20 -> 10 | P19: ='CAPTURA DE TRAMITE'!G20 -> 10 | Q19: ='CAPTURA DE TRAMITE'!L20 -> 10 | R19: ='CAPTURA DE TRAMITE'!Q20 -> 10 | S19: =PRODUCTIVIDAD!N20 -> 10 | T19: =PRODUCTIVIDAD!Z20 -> 10 | U19: =PRODUCTIVIDAD!AL20 -> 10 | V19: =SUM(G19,J19,M19,P19,S19)/5 -> 10 | W19: =SUM(H19,K19,N19,Q19,T19)/5 -> 10 | X19: =SUM(I19,L19,O19,R19,U19)/5 -> 10 | Y19: =AVERAGE(V19:X19) -> 10
A20: 10 | B20: NOMBRE DEL FUNCIONARIO | G20: =PUNTUALIDAD!K21 -> 10 | H20: =PUNTUALIDAD!T21 -> 10 | I20: =PUNTUALIDAD!AC21 -> 10 | J20: ='CALIDAD EN EL SERVICIO'!G$18 -> 10 | K20: ='CALIDAD EN EL SERVICIO'!G$23 -> 10 | L20: ='CALIDAD EN EL SERVICIO'!G$28 -> 10 | M20: ='VESTUARIO INSTITUCIONAL'!G21 -> 10 | N20: ='VESTUARIO INSTITUCIONAL'!L21 -> 10 | O20: ='VESTUARIO INSTITUCIONAL'!Q21 -> 10 | P20: ='CAPTURA DE TRAMITE'!G21 -> 10 | Q20: ='CAPTURA DE TRAMITE'!L21 -> 10 | R20: ='CAPTURA DE TRAMITE'!Q21 -> 10 | S20: =PRODUCTIVIDAD!N21 -> 10 | T20: =PRODUCTIVIDAD!Z21 -> 10 | U20: =PRODUCTIVIDAD!AL21 -> 10 | V20: =SUM(G20,J20,M20,P20,S20)/5 -> 10 | W20: =SUM(H20,K20,N20,Q20,T20)/5 -> 10 | X20: =SUM(I20,L20,O20,R20,U20)/5 -> 10 | Y20: =AVERAGE(V20:X20) -> 10
A21: 11 | B21: NOMBRE DEL FUNCIONARIO | G21: =PUNTUALIDAD!K22 -> 10 | H21: =PUNTUALIDAD!T22 -> 10 | I21: =PUNTUALIDAD!AC22 -> 10 | J21: ='CALIDAD EN EL SERVICIO'!G$18 -> 10 | K21: ='CALIDAD EN EL SERVICIO'!G$23 -> 10 | L21: ='CALIDAD EN EL SERVICIO'!G$28 -> 10 | M21: ='VESTUARIO INSTITUCIONAL'!G22 -> 10 | N21: ='VESTUARIO INSTITUCIONAL'!L22 -> 10 | O21: ='VESTUARIO INSTITUCIONAL'!Q22 -> 10 | P21: ='CAPTURA DE TRAMITE'!G22 -> 10 | Q21: ='CAPTURA DE TRAMITE'!L22 -> 10 | R21: ='CAPTURA DE TRAMITE'!Q22 -> 10 | S21: =PRODUCTIVIDAD!N22 -> 10 | T21: =PRODUCTIVIDAD!Z22 -> 10 | U21: =PRODUCTIVIDAD!AL22 -> 10 | V21: =SUM(G21,J21,M21,P21,S21)/5 -> 10 | W21: =SUM(H21,K21,N21,Q21,T21)/5 -> 10 | X21: =SUM(I21,L21,O21,R21,U21)/5 -> 10 | Y21: =AVERAGE(V21:X21) -> 10
A22: 12 | B22: NOMBRE DEL FUNCIONARIO | G22: =PUNTUALIDAD!K23 -> 10 | H22: =PUNTUALIDAD!T23 -> 10 | I22: =PUNTUALIDAD!AC23 -> 10 | J22: ='CALIDAD EN EL SERVICIO'!G$18 -> 10 | K22: ='CALIDAD EN EL SERVICIO'!G$23 -> 10 | L22: ='CALIDAD EN EL SERVICIO'!G$28 -> 10 | M22: ='VESTUARIO INSTITUCIONAL'!G23 -> 10 | N22: ='VESTUARIO INSTITUCIONAL'!L23 -> 10 | O22: ='VESTUARIO INSTITUCIONAL'!Q23 -> 10 | P22: ='CAPTURA DE TRAMITE'!G23 -> 10 | Q22: ='CAPTURA DE TRAMITE'!L23 -> 10 | R22: ='CAPTURA DE TRAMITE'!Q23 -> 10 | S22: =PRODUCTIVIDAD!N23 -> 10 | T22: =PRODUCTIVIDAD!Z23 -> 10 | U22: =PRODUCTIVIDAD!AL23 -> 10 | V22: =SUM(G22,J22,M22,P22,S22)/5 -> 10 | W22: =SUM(H22,K22,N22,Q22,T22)/5 -> 10 | X22: =SUM(I22,L22,O22,R22,U22)/5 -> 10 | Y22: =AVERAGE(V22:X22) -> 10
... A25: 15 | B25: NOMBRE DEL FUNCIONARIO | G25: =PUNTUALIDAD!K26 -> 10 | H25: =PUNTUALIDAD!T26 -> 10 | I25: =PUNTUALIDAD!AC26 -> 10 | J25: ='CALIDAD EN EL SERVICIO'!G$18 -> 10 | K25: ='CALIDAD EN EL SERVICIO'!G$23 -> 10 | L25: ='CALIDAD EN EL SERVICIO'!G$28 -> 10 | M25: ='VESTUARIO INSTITUCIONAL'!G26 -> 10 | N25: ='VESTUARIO INSTITUCIONAL'!L26 -> 10 | O25: ='VESTUARIO INSTITUCIONAL'!Q26 -> 10 | P25: ='CAPTURA DE TRAMITE'!G26 -> 10 | Q25: ='CAPTURA DE TRAMITE'!L26 -> 10 | R25: ='CAPTURA DE TRAMITE'!Q26 -> 10 | S25: =PRODUCTIVIDAD!N26 -> 10 | T25: =PRODUCTIVIDAD!Z26 -> 10 | U25: =PRODUCTIVIDAD!AL26 -> 10 | V25: =SUM(G25,J25,M25,P25,S25)/5 -> 10 | W25: =SUM(H25,K25,N25,Q25,T25)/5 -> 10 | X25: =SUM(I25,L25,O25,R25,U25)/5 -> 10 | Y25: =AVERAGE(V25:X25) -> 10
U26: Promedio tablero de indicadores | V26: =AVERAGE(V11:V25) -> 10 | W26: =AVERAGE(W11:W25) -> 10 | X26: =AVERAGE(X11:X25) -> 10 | Y26: =AVERAGE(Y11:Y25) -> 10
A27: Responsables de la verificación de desempeño
C32: Vocal Ejecutivo | M32: Vocal del Registro Federal de Electores
A34: INE DERFE Para uso exclusivo de las y los funcionarios de MAC y Vocalías del RFE

Sheet PUNTUALIDAD
AE1: JUNTA LOCAL EJECUTIVA
AE2: ='CONCENTRADO CALIDAD SERVICIO'!Z2 -> Colocar el Nombre de la Entidad
AE3: Vocalía del Registro Federal de Electores
B4: Distrito | C4: ='CONCENTRADO CALIDAD SERVICIO'!C4:F4 -> 0 | I4: Módulo | K4: ='CONCENTRADO CALIDAD SERVICIO'!J4 -> 0 | T4: ='CONCENTRADO CALIDAD SERVICIO'!P4 -> Bitácora de Desempeño Módulos de Atención Ciudadana Calidad en el Servicio
AE5: FORMATO DEL FACTOR PUNTUALIDAD
E6: ='CONCENTRADO CALIDAD SERVICIO'!G5 -> ENE-ABR | F6: ='CONCENTRADO CALIDAD SERVICIO'!H5 -> MAY-AGO | G6: ='CONCENTRADO CALIDAD SERVICIO'!I5 -> SEP-DIC | AE6: ='CONCENTRADO CALIDAD SERVICIO'!P6 -> 2025
B7: Periodo de verificación | C7: ='CONCENTRADO CALIDAD SERVICIO'!C6:F6 -> Cuatrimestre | E7: =IF('CONCENTRADO CALIDAD SERVICIO'!G6 = 0,"",'CONCENTRADO CALIDAD SERVICIO'!G6) | F7: =IF('CONCENTRADO CALIDAD SERVICIO'!I6 = 0,"",'CONCENTRADO CALIDAD SERVICIO'!I6) | I7: =IF('CONCENTRADO CALIDAD SERVICIO'!J6 = 0,"",'CONCENTRADO CALIDAD SERVICIO'!J6) | J7: =IF('CONCENTRADO CALIDAD SERVICIO'!L6 = 0,"",'CONCENTRADO CALIDAD SERVICIO'!L6) -> Tercer Cuatrimestre | L7: ='CONCENTRADO CALIDAD SERVICIO'!N6 -> Año | M7: ='CONCENTRADO CALIDAD SERVICIO'!P6 -> 2025 | AE7: ='CONCENTRADO CALIDAD SERVICIO'!Z6 -> Versión: 6.6
AE8: ='CONCENTRADO CALIDAD SERVICIO'!Z7 -> Fecha Emisión: Agosto 2024
A9: No. | B9: Nombre | C9: Primer Cuatrimestre | K9: Ponderación Cuatrimestral | L9: Segundo Cuatrimestre | T9: Ponderación Cuatrimestral | U9: Tercer Cuatrimestre | AC9: Ponderación Cuatrimestral | AD9: Ponderación Anual | AE9: Observaciones: registre el motivo que generó la afectación, en circunstancia de tiempo, modo y lugar; anexe documento de constancia.
C10: 1 er mes | E10: 2 do mes | G10: 3 er mes | I10: 4 to mes | L10: 1 er mes | N10: 2 do mes | P10: 3 er mes | R10: 4 to mes | U10: 1 er mes | W10: 2 do mes | Y10: 3 er mes | AA10: 4 to mes
C11: Parcial | D11: Total | E11: Parcial | F11: Total | G11: Parcial | H11: Total | I11: Parcial | J11: Total | L11: Parcial | M11: Total | N11: Parcial | O11: Total | P11: Parcial | Q11: Total | R11: Parcial | S11: Total | U11: Parcial | V11: Total | W11: Parcial | X11: Total | Y11: Parcial | Z11: Total | AA11: Parcial | AB11: Total
A12: 1 | B12: ='CONCENTRADO CALIDAD SERVICIO'!B11 -> NOMBRE DEL FUNCIONARIO | K12: =10-((C12+E12+G12+I12)*0.5)-((D12+F12+H12+J12)*1) -> 10 | T12: =10-((L12+N12+P12+R12)*0.5)-((M12+O12+Q12+S12)*1) -> 10 | AC12: =10-((U12+W12+Y12+AA12)*0.5)-((V12+X12+Z12+AB12)*1) -> 10 | AD12: =(K12+T12+AC12)/3 -> 10
A13: 2 | B13: ='CONCENTRADO CALIDAD SERVICIO'!B12 -> NOMBRE DEL FUNCIONARIO | K13: =10-((C13+E13+G13+I13)*0.5)-((D13+F13+H13+J13)*1) -> 10 | T13: =10-((L13+N13+P13+R13)*0.5)-((M13+O13+Q13+S13)*1) -> 10 | AC13: =10-((U13+W13+Y13+AA13)*0.5)-((V13+X13+Z13+AB13)*1) -> 10 | AD13: =(K13+T13+AC13)/3 -> 10
A14: 3 | B14: ='CONCENTRADO CALIDAD SERVICIO'!B13 -> NOMBRE DEL FUNCIONARIO | K14: =10-((C14+E14+G14+I14)*0.5)-((D14+F14+H14+J14)*1) -> 10 | T14: =10-((L14+N14+P14+R14)*0.5)-((M14+O14+Q14+S14)*1) -> 10 | AC14: =10-((U14+W14+Y14+AA14)*0.5)-((V14+X14+Z14+AB14)*1) -> 10 | AD14: =(K14+T14+AC14)/3 -> 10
A15: 4 | B15: ='CONCENTRADO CALIDAD SERVICIO'!B14 -> NOMBRE DEL FUNCIONARIO | K15: =10-((C15+E15+G15+I15)*0.5)-((D15+F15+H15+J15)*1) -> 10 | T15: =10-((L15+N15+P15+R15)*0.5)-((M15+O15+Q15+S15)*1) -> 10 | AC15: =10-((U15+W15+Y15+AA15)*0.5)-((V15+X15+Z15+AB15)*1) -> 10 | AD15: =(K15+T15+AC15)/3 -> 10
A16: 5 | B16: ='CONCENTRADO CALIDAD SERVICIO'!B15 -> NOMBRE DEL FUNCIONARIO | K16: =10-((C16+E16+G16+I16)*0.5)-((D16+F16+H16+J16)*1) -> 10 | T16: =10-((L16+N16+P16+R16)*0.5)-((M16+O16+Q16+S16)*1) -> 10 | AC16: =10-((U16+W16+Y16+AA16)*0.5)-((V16+X16+Z16+AB16)*1) -> 10 | AD16: =(K16+T16+AC16)/3 -> 10
A17: 6 | B17: ='CONCENTRADO CALIDAD SERVICIO'!B16 -> NOMBRE DEL FUNCIONARIO | K17: =10-((C17+E17+G17+I17)*0.5)-((D17+F17+H17+J17)*1) -> 10 | T17: =10-((L17+N17+P17+R17)*0.5)-((M17+O17+Q17+S17)*1) -> 10 | AC17: =10-((U17+W17+Y17+AA17)*0.5)-((V17+X17+Z17+AB17)*1) -> 10 | AD17: =(K17+T17+AC17)/3 -> 10
A18: 7 | B18: ='CONCENTRADO CALIDAD SERVICIO'!B17 -> NOMBRE DEL FUNCIONARIO | K18: =10-((C18+E18+G18+I18)*0.5)-((D18+F18+H18+J18)*1) -> 10 | T18: =10-((L18+N18+P18+R18)*0.5)-((M18+O18+Q18+S18)*1) -> 10 | AC18: =10-((U18+W18+Y18+AA18)*0.5)-((V18+X18+Z18+AB18)*1) -> 10 | AD18: =(K18+T18+AC18)/3 -> 10
A19: 8 | B19: ='CONCENTRADO CALIDAD SERVICIO'!B18 -> NOMBRE DEL FUNCIONARIO | K19: =10-((C19+E19+G19+I19)*0.5)-((D19+F19+H19+J19)*1) -> 10 | T19: =10-((L19+N19+P19+R19)*0.5)-((M19+O19+Q19+S19)*1) -> 10 | AC19: =10-((U19+W19+Y19+AA19)*0.5)-((V19+X19+Z19+AB19)*1) -> 10 | AD19: =(K19+T19+AC19)/3 -> 10
A20: 9 | B20: ='CONCENTRADO CALIDAD SERVICIO'!B19 -> NOMBRE DEL FUNCIONARIO | K20: =10-((C20+E20+G20+I20)*0.5)-((D20+F20+H20+J20)*1) -> 10 | T20: =10-((L20+N20+P20+R20)*0.5)-((M20+O20+Q20+S20)*1) -> 10 | AC20: =10-((U20+W20+Y20+AA20)*0.5)-((V20+X20+Z20+AB20)*1) -> 10 | AD20: =(K20+T20+AC20)/3 -> 10
A21: 10 | B21: ='CONCENTRADO CALIDAD SERVICIO'!B20 -> NOMBRE DEL FUNCIONARIO | K21: =10-((C21+E21+G21+I21)*0.5)-((D21+F21+H21+J21)*1) -> 10 | T21: =10-((L21+N21+P21+R21)*0.5)-((M21+O21+Q21+S21)*1) -> 10 | AC21: =10-((U21+W21+Y21+AA21)*0.5)-((V21+X21+Z21+AB21)*1) -> 10 | AD21: =(K21+T21+AC21)/3 -> 10
A22: 11 | B22: ='CONCENTRADO CALIDAD SERVICIO'!B21 -> NOMBRE DEL FUNCIONARIO | K22: =10-((C22+E22+G22+I22)*0.5)-((D22+F22+H22+J22)*1) -> 10 | T22: =10-((L22+N22+P22+R22)*0.5)-((M22+O22+Q22+S22)*1) -> 10 | AC22: =10-((U22+W22+Y22+AA22)*0.5)-((V22+X22+Z22+AB22)*1) -> 10 | AD22: =(K22+T22+AC22)/3 -> 10
A23: 12 | B23: ='CONCENTRADO CALIDAD SERVICIO'!B22 -> NOMBRE DEL FUNCIONARIO | K23: =10-((C23+E23+G23+I23)*0.5)-((D23+F23+H23+J23)*1) -> 10 | T23: =10-((L23+N23+P23+R23)*0.5)-((M23+O23+Q23+S23)*1) -> 10 | AC23: =10-((U23+W23+Y23+AA23)*0.5)-((V23+X23+Z23+AB23)*1) -> 10 | AD23: =(K23+T23+AC23)/3 -> 10
... A26: 15 | B26: ='CONCENTRADO CALIDAD SERVICIO'!B25 -> NOMBRE DEL FUNCIONARIO | K26: =10-((C26+E26+G26+I26)*0.5)-((D26+F26+H26+J26)*1) -> 10 | T26: =10-((L26+N26+P26+R26)*0.5)-((M26+O26+Q26+S26)*1) -> 10 | AC26: =10-((U26+W26+Y26+AA26)*0.5)-((V26+X26+Z26+AB26)*1) -> 10 | AD26: =(K26+T26+AC26)/3 -> 10
A27: Falta parcial de la prestación del servicio (0.50)
A28: Falta total de la prestación del servicio (1.00)
A29: Capture solo el valor nominal de la frecuencia presentada: 1, 2, 3
A30: Responsables de la verificación de desempeño
C35: Vocal Ejecutivo | L35: Vocal del Registro Federal de Electores
A37: ='CONCENTRADO CALIDAD SERVICIO'!A34 -> INE DERFE Para uso exclusivo de las y los funcionarios de MAC y Vocalías del RFE

Sheet CALIDAD EN EL SERVICIO
K4: JUNTA LOCAL EJECUTIVA
K5: ='CONCENTRADO CALIDAD SERVICIO'!Z2 -> Colocar el Nombre de la Entidad
K6: Vocalía del Registro Federal de Electores
A7: ='CONCENTRADO CALIDAD SERVICIO'!B4 -> Distrito | B7: ='CONCENTRADO CALIDAD SERVICIO'!C4 -> 0 | K7: ='CONCENTRADO CALIDAD SERVICIO'!P4 -> Bitácora de Desempeño Módulos de Atención Ciudadana Calidad en el Servicio
A8: Módulo | B8: ='CONCENTRADO CALIDAD SERVICIO'!J4 -> 0 | K8: FORMATO CALIDAD EN EL SERVICIO
D9: ='CONCENTRADO CALIDAD SERVICIO'!G5 -> ENE-ABR | E9: ='CONCENTRADO CALIDAD SERVICIO'!H5 -> MAY-AGO | F9: ='CONCENTRADO CALIDAD SERVICIO'!I5 -> SEP-DIC | K9: ='CONCENTRADO CALIDAD SERVICIO'!P6 -> 2025
A10: Periodo de verificación | C10: ='CONCENTRADO CALIDAD SERVICIO'!C6:F6 -> Cuatrimestre | D10: =IF('CONCENTRADO CALIDAD SERVICIO'!G6 = 0,"",'CONCENTRADO CALIDAD SERVICIO'!G6) | E10: =IF('CONCENTRADO CALIDAD SERVICIO'!I6 = 0,"",'CONCENTRADO CALIDAD SERVICIO'!I6) | F10: =IF('CONCENTRADO CALIDAD SERVICIO'!J6 = 0,"",'CONCENTRADO CALIDAD SERVICIO'!J6) | G10: =IF('CONCENTRADO CALIDAD SERVICIO'!L6 = 0,"",'CONCENTRADO CALIDAD SERVICIO'!L6) -> Tercer Cuatrimestre | I10: ='CONCENTRADO CALIDAD SERVICIO'!N6 -> Año | J10: ='CONCENTRADO CALIDAD SERVICIO'!P6 -> 2025 | K10: ='CONCENTRADO CALIDAD SERVICIO'!Z6 -> Versión: 6.6
K11: ='CONCENTRADO CALIDAD SERVICIO'!Z7 -> Fecha Emisión: Agosto 2024
A12: Periodo | B12: Registro | C12: Queja ciudadana | G12: Ponderación | H12: Observaciones: haga referencia a la fecha y número de reporte emitido por la Dirección de Atención Ciudadana o el medio en el que se recibió la queja ciudadana.
C13: Mal trato | D13: Incumplimiento de horarios | E13: Mala orientación | F13: Otros
A14: Primer Cuatrimestre | B14: 1er mes | G14: =10-((C14+D14+E14+F14)*1) -> 10
B15: 2do mes | G15: =10-((C15+D15+E15+F15)*1) -> 10
B16: 3er mes | G16: =10-((C16+D16+E16+F16)*1) -> 10
B17: 4to mes | G17: =10-((C17+D17+E17+F17)*1) -> 10
A18: Ponderación Cuatrimestral | G18: =SUM(G14:G17)/4 -> 10
A19: Segundo Cuatrimestre | B19: 1er mes | G19: =10-((C19+D19+E19+F19)*1) -> 10
B20: 2do mes | G20: =10-((C20+D20+E20+F20)*1) -> 10
B21: 3er mes | G21: =10-((C21+D21+E21+F21)*1) -> 10
B22: 4to mes | G22: =10-((C22+D22+E22+F22)*1) -> 10
A23: Ponderación Cuatrimestral | G23: =SUM(G19:G22)/4 -> 10
A24: Tercer Cuatrimestre | B24: 1er mes | G24: =10-((C24+D24+E24+F24)*1) -> 10
B25: 2do mes | G25: =10-((C25+D25+E25+F25)*1) -> 10
B26: 3er mes | G26: =10-((C26+D26+E26+F26)*1) -> 10
B27: 4to mes | G27: =10-((C27+D27+E27+F27)*1) -> 10
A28: Ponderación Cuatrimestral | G28: =SUM(G24:G27)/4 -> 10
A29: Ponderación Anual | G29: =(G28+G18+G23)/3 -> 10
A30: Capture solo el valor nominal de la frecuencia presentada
A31: El valor de afectación es de (1.00)
A34: Responsables de la verificación de desempeño
A37: Vocal Ejecutivo | K37: Vocal del Registro Federal de Electores
A39: ='CONCENTRADO CALIDAD SERVICIO'!A34 -> INE DERFE Para uso exclusivo de las y los funcionarios de MAC y Vocalías del RFE

Sheet VESTUARIO INSTITUCIONAL
S1: JUNTA LOCAL EJECUTIVA
S2: ='CONCENTRADO CALIDAD SERVICIO'!Z2 -> Colocar el Nombre de la Entidad
S3: Vocalía del Registro Federal de Electores
A4: ='CONCENTRADO CALIDAD SERVICIO'!B4 -> Distrito | B4: ='CONCENTRADO CALIDAD SERVICIO'!C4 -> 0 | S4: ='CONCENTRADO CALIDAD SERVICIO'!P4 -> Bitácora de Desempeño Módulos de Atención Ciudadana Calidad en el Servicio
A5: ='CALIDAD EN EL SERVICIO'!A8 -> Módulo | B5: ='CONCENTRADO CALIDAD SERVICIO'!P6 -> 2025 | S5: FORMATOVESTUARIO INSTITUCIONAL
D6: ='CONCENTRADO CALIDAD SERVICIO'!G5 -> ENE-ABR | E6: ='CONCENTRADO CALIDAD SERVICIO'!H5 -> MAY-AGO | F6: ='CONCENTRADO CALIDAD SERVICIO'!I5 -> SEP-DIC | S6: ='CONCENTRADO CALIDAD SERVICIO'!P6 -> 2025
B7: ='CALIDAD EN EL SERVICIO'!A10 -> Periodo de verificación | C7: ='CONCENTRADO CALIDAD SERVICIO'!C6 -> Cuatrimestre | D7: =IF('CONCENTRADO CALIDAD SERVICIO'!G6 = 0,"",'CONCENTRADO CALIDAD SERVICIO'!G6) | F7: =IF('CONCENTRADO CALIDAD SERVICIO'!I6 = 0,"",'CONCENTRADO CALIDAD SERVICIO'!I6) | G7: =IF('CONCENTRADO CALIDAD SERVICIO'!J6 = 0,"",'CONCENTRADO CALIDAD SERVICIO'!J6) | H7: =IF('CONCENTRADO CALIDAD SERVICIO'!L6 = 0,"",'CONCENTRADO CALIDAD SERVICIO'!L6) -> Tercer Cuatrimestre | L7: ='CONCENTRADO CALIDAD SERVICIO'!N6 -> Año | M7: ='CONCENTRADO CALIDAD SERVICIO'!P6 -> 2025 | S7: ='CONCENTRADO CALIDAD SERVICIO'!Z6 -> Versión: 6.6
S8: ='CONCENTRADO CALIDAD SERVICIO'!Z7 -> Fecha Emisión: Agosto 2024
A9: No. | B9: Nombre | C9: =PUNTUALIDAD!C9 -> Primer Cuatrimestre | G9: Ponderación Cuatrimestral | H9: =PUNTUALIDAD!L9 -> Segundo Cuatrimestre | L9: Ponderación Cuatrimestral | M9: =PUNTUALIDAD!U9 -> Tercer Cuatrimestre | Q9: Ponderación Cuatrimestral | R9: Ponderación Anual | S9: Observaciones: registre el motivo que generó la afectación, en circunstancia de tiempo, modo y lugar; anexe documento de constancia.
C10: 1 er mes | D10: 2 do mes | E10: 3 er mes | F10: 4 to mes | H10: 1 er mes | I10: 2 do mes | J10: 3 er mes | K10: 4 to mes | M10: 1 er mes | N10: 2 do mes | O10: 3 er mes | P10: 4 to mes
A12: 1 | B12: ='CONCENTRADO CALIDAD SERVICIO'!B11 -> NOMBRE DEL FUNCIONARIO | G12: =10-((C12+D12+E12+F12)*0.5) -> 10 | L12: =10-((H12+I12+J12+K12)*0.5) -> 10 | Q12: =10-((M12+N12+O12+P12)*0.5) -> 10 | R12: =(G12+L12+Q12)/3 -> 10
A13: 2 | B13: ='CONCENTRADO CALIDAD SERVICIO'!B12 -> NOMBRE DEL FUNCIONARIO | G13: =10-((C13+D13+E13+F13)*0.5) -> 10 | L13: =10-((H13+I13+J13+K13)*0.5) -> 10 | Q13: =10-((M13+N13+O13+P13)*0.5) -> 10 | R13: =(G13+L13+Q13)/3 -> 10
A14: 3 | B14: ='CONCENTRADO CALIDAD SERVICIO'!B13 -> NOMBRE DEL FUNCIONARIO | G14: =10-((C14+D14+E14+F14)*0.5) -> 10 | L14: =10-((H14+I14+J14+K14)*0.5) -> 10 | Q14: =10-((M14+N14+O14+P14)*0.5) -> 10 | R14: =(G14+L14+Q14)/3 -> 10
A15: 4 | B15: ='CONCENTRADO CALIDAD SERVICIO'!B14 -> NOMBRE DEL FUNCIONARIO | G15: =10-((C15+D15+E15+F15)*0.5) -> 10 | L15: =10-((H15+I15+J15+K15)*0.5) -> 10 | Q15: =10-((M15+N15+O15+P15)*0.5) -> 10 | R15: =(G15+L15+Q15)/3 -> 10
A16: 5 | B16: ='CONCENTRADO CALIDAD SERVICIO'!B15 -> NOMBRE DEL FUNCIONARIO | G16: =10-((C16+D16+E16+F16)*0.5) -> 10 | L16: =10-((H16+I16+J16+K16)*0.5) -> 10 | Q16: =10-((M16+N16+O16+P16)*0.5) -> 10 | R16: =(G16+L16+Q16)/3 -> 10
A17: 6 | B17: ='CONCENTRADO CALIDAD SERVICIO'!B16 -> NOMBRE DEL FUNCIONARIO | G17: =10-((C17+D17+E17+F17)*0.5) -> 10 | L17: =10-((H17+I17+J17+K17)*0.5) -> 10 | Q17: =10-((M17+N17+O17+P17)*0.5) -> 10 | R17: =(G17+L17+Q17)/3 -> 10
A18: 7 | B18: ='CONCENTRADO CALIDAD SERVICIO'!B17 -> NOMBRE DEL FUNCIONARIO | G18: =10-((C18+D18+E18+F18)*0.5) -> 10 | L18: =10-((H18+I18+J18+K18)*0.5) -> 10 | Q18: =10-((M18+N18+O18+P18)*0.5) -> 10 | R18: =(G18+L18+Q18)/3 -> 10
A19: 8 | B19: ='CONCENTRADO CALIDAD SERVICIO'!B18 -> NOMBRE DEL FUNCIONARIO | G19: =10-((C19+D19+E19+F19)*0.5) -> 10 | L19: =10-((H19+I19+J19+K19)*0.5) -> 10 | Q19: =10-((M19+N19+O19+P19)*0.5) -> 10 | R19: =(G19+L19+Q19)/3 -> 10
A20: 9 | B20: ='CONCENTRADO CALIDAD SERVICIO'!B19 -> NOMBRE DEL FUNCIONARIO | G20: =10-((C20+D20+E20+F20)*0.5) -> 10 | L20: =10-((H20+I20+J20+K20)*0.5) -> 10 | Q20: =10-((M20+N20+O20+P20)*0.5) -> 10 | R20: =(G20+L20+Q20)/3 -> 10
A21: 10 | B21: ='CONCENTRADO CALIDAD SERVICIO'!B20 -> NOMBRE DEL FUNCIONARIO | G21: =10-((C21+D21+E21+F21)*0.5) -> 10 | L21: =10-((H21+I21+J21+K21)*0.5) -> 10 | Q21: =10-((M21+N21+O21+P21)*0.5) -> 10 | R21: =(G21+L21+Q21)/3 -> 10
A22: 11 | B22: ='CONCENTRADO CALIDAD SERVICIO'!B21 -> NOMBRE DEL FUNCIONARIO | G22: =10-((C22+D22+E22+F22)*0.5) -> 10 | L22: =10-((H22+I22+J22+K22)*0.5) -> 10 | Q22: =10-((M22+N22+O22+P22)*0.5) -> 10 | R22: =(G22+L22+Q22)/3 -> 10
A23: 12 | B23: ='CONCENTRADO CALIDAD SERVICIO'!B22 -> NOMBRE DEL FUNCIONARIO | G23: =10-((C23+D23+E23+F23)*0.5) -> 10 | L23: =10-((H23+I23+J23+K23)*0.5) -> 10 | Q23: =10-((M23+N23+O23+P23)*0.5) -> 10 | R23: =(G23+L23+Q23)/3 -> 10
... A26: 15 | B26: ='CONCENTRADO CALIDAD SERVICIO'!B25 -> NOMBRE DEL FUNCIONARIO | G26: =10-((C26+D26+E26+F26)*0.5) -> 10 | L26: =10-((H26+I26+J26+K26)*0.5) -> 10 | Q26: =10-((M26+N26+O26+P26)*0.5) -> 10 | R26: =(G26+L26+Q26)/3 -> 10
A28: Afectación para observaciones del Factor Imagen (0.50)
A29: Capture solo el valor nominal de la frecuencia presentada: 1, 2, 3
A30: Responsables de la verificación de desempeño
B35: Vocal Ejecutivo | K35: Vocal del Registro Federal de Electores
A37: ='CONCENTRADO CALIDAD SERVICIO'!A34 -> INE DERFE Para uso exclusivo de las y los funcionarios de MAC y Vocalías del RFE

Sheet CAPTURA DE TRAMITE
S1: JUNTA LOCAL EJECUTIVA
S2: ='CONCENTRADO CALIDAD SERVICIO'!Z2 -> Colocar el Nombre de la Entidad
S3: Vocalía del Registro Federal de Electores
A4: ='CONCENTRADO CALIDAD SERVICIO'!B4 -> Distrito | B4: ='CONCENTRADO CALIDAD SERVICIO'!C4 -> 0 | R4: ='CONCENTRADO CALIDAD SERVICIO'!P4 -> Bitácora de Desempeño Módulos de Atención Ciudadana Calidad en el Servicio
A5: ='CALIDAD EN EL SERVICIO'!A8 -> Módulo | B5: ='CONCENTRADO CALIDAD SERVICIO'!J4 -> 0 | S5: FORMATO DEL FACTOR CALIDAD EN LA CAPTURA DE TRAMITÉ
S6: ='CONCENTRADO CALIDAD SERVICIO'!P6 -> 2025
F7: ='CONCENTRADO CALIDAD SERVICIO'!G5 -> ENE-ABR | G7: ='CONCENTRADO CALIDAD SERVICIO'!H5 -> MAY-AGO | H7: ='CONCENTRADO CALIDAD SERVICIO'!I5 -> SEP-DIC | S7: ='CONCENTRADO CALIDAD SERVICIO'!Z6 -> Versión: 6.6
B8: ='CALIDAD EN EL SERVICIO'!A10 -> Periodo de verificación | E8: ='CONCENTRADO CALIDAD SERVICIO'!C6 -> Cuatrimestre | F8: =IF('CONCENTRADO CALIDAD SERVICIO'!G6 = 0,"",'CONCENTRADO CALIDAD SERVICIO'!G6) | G8: =IF('CONCENTRADO CALIDAD SERVICIO'!I6 = 0,"",'CONCENTRADO CALIDAD SERVICIO'!I6) | H8: =IF('CONCENTRADO CALIDAD SERVICIO'!J6 = 0,"",'CONCENTRADO CALIDAD SERVICIO'!J6) | J8: ='CONCENTRADO CALIDAD SERVICIO'!N6 -> Año | K8: ='CONCENTRADO CALIDAD SERVICIO'!P6 -> 2025 | S8: ='CONCENTRADO CALIDAD SERVICIO'!Z7 -> Fecha Emisión: Agosto 2024
A9: No. | B9: Nombre | C9: =PUNTUALIDAD!C9 -> Primer Cuatrimestre | G9: Ponderación Cuatrimestral | H9: =PUNTUALIDAD!L9 -> Segundo Cuatrimestre | L9: Ponderación Cuatrimestral | M9: =PUNTUALIDAD!U9 -> Tercer Cuatrimestre | Q9: Ponderación Cuatrimestral | R9: Ponderación Anual | S9: Observaciones: registre el motivo que generó la afectación, en circunstancia de tiempo, modo y lugar; anexe documento de constancia.
C10: 1 er mes | D10: 2 do mes | E10: 3 er mes | F10: 4 to mes | H10: 1 er mes | I10: 2 do mes | J10: 3 er mes | K10: 4 to mes | M10: 1 er mes | N10: 2 do mes | O10: 3 er mes | P10: 4 to mes
A12: 1 | B12: ='CONCENTRADO CALIDAD SERVICIO'!B11 -> NOMBRE DEL FUNCIONARIO | G12: =10-((C12+D12+E12+F12)*1.5) -> 10 | L12: =10-((H12+I12+J12+K12)*1.5) -> 10 | Q12: =10-((M12+N12+O12+P12)*1.5) -> 10 | R12: =(G12+L12+Q12)/3 -> 10
A13: 2 | B13: ='CONCENTRADO CALIDAD SERVICIO'!B12 -> NOMBRE DEL FUNCIONARIO | G13: =10-((C13+D13+E13+F13)*1.5) -> 10 | L13: =10-((H13+I13+J13+K13)*1.5) -> 10 | Q13: =10-((M13+N13+O13+P13)*1.5) -> 10 | R13: =(G13+L13+Q13)/3 -> 10
A14: 3 | B14: ='CONCENTRADO CALIDAD SERVICIO'!B13 -> NOMBRE DEL FUNCIONARIO | G14: =10-((C14+D14+E14+F14)*1.5) -> 10 | L14: =10-((H14+I14+J14+K14)*1.5) -> 10 | Q14: =10-((M14+N14+O14+P14)*1.5) -> 10 | R14: =(G14+L14+Q14)/3 -> 10
A15: 4 | B15: ='CONCENTRADO CALIDAD SERVICIO'!B14 -> NOMBRE DEL FUNCIONARIO | G15: =10-((C15+D15+E15+F15)*1.5) -> 10 | L15: =10-((H15+I15+J15+K15)*1.5) -> 10 | Q15: =10-((M15+N15+O15+P15)*1.5) -> 10 | R15: =(G15+L15+Q15)/3 -> 10
A16: 5 | B16: ='CONCENTRADO CALIDAD SERVICIO'!B15 -> NOMBRE DEL FUNCIONARIO | G16: =10-((C16+D16+E16+F16)*1.5) -> 10 | L16: =10-((H16+I16+J16+K16)*1.5) -> 10 | Q16: =10-((M16+N16+O16+P16)*1.5) -> 10 | R16: =(G16+L16+Q16)/3 -> 10
A17: 6 | B17: ='CONCENTRADO CALIDAD SERVICIO'!B16 -> NOMBRE DEL FUNCIONARIO | G17: =10-((C17+D17+E17+F17)*1.5) -> 10 | L17: =10-((H17+I17+J17+K17)*1.5) -> 10 | Q17: =10-((M17+N17+O17+P17)*1.5) -> 10 | R17: =(G17+L17+Q17)/3 -> 10
A18: 7 | B18: ='CONCENTRADO CALIDAD SERVICIO'!B17 -> NOMBRE DEL FUNCIONARIO | G18: =10-((C18+D18+E18+F18)*1.5) -> 10 | L18: =10-((H18+I18+J18+K18)*1.5) -> 10 | Q18: =10-((M18+N18+O18+P18)*1.5) -> 10 | R18: =(G18+L18+Q18)/3 -> 10
A19: 8 | B19: ='CONCENTRADO CALIDAD SERVICIO'!B18 -> NOMBRE DEL FUNCIONARIO | G19: =10-((C19+D19+E19+F19)*1.5) -> 10 | L19: =10-((H19+I19+J19+K19)*1.5) -> 10 | Q19: =10-((M19+N19+O19+P19)*1.5) -> 10 | R19: =(G19+L19+Q19)/3 -> 10
A20: 9 | B20: ='CONCENTRADO CALIDAD SERVICIO'!B19 -> NOMBRE DEL FUNCIONARIO | G20: =10-((C20+D20+E20+F20)*1.5) -> 10 | L20: =10-((H20+I20+J20+K20)*1.5) -> 10 | Q20: =10-((M20+N20+O20+P20)*1.5) -> 10 | R20: =(G20+L20+Q20)/3 -> 10
A21: 10 | B21: ='CONCENTRADO CALIDAD SERVICIO'!B20 -> NOMBRE DEL FUNCIONARIO | G21: =10-((C21+D21+E21+F21)*1.5) -> 10 | L21: =10-((H21+I21+J21+K21)*1.5) -> 10 | Q21: =10-((M21+N21+O21+P21)*1.5) -> 10 | R21: =(G21+L21+Q21)/3 -> 10
A22: 11 | B22: ='CONCENTRADO CALIDAD SERVICIO'!B21 -> NOMBRE DEL FUNCIONARIO | G22: =10-((C22+D22+E22+F22)*1.5) -> 10 | L22: =10-((H22+I22+J22+K22)*1.5) -> 10 | Q22: =10-((M22+N22+O22+P22)*1.5) -> 10 | R22: =(G22+L22+Q22)/3 -> 10
A23: 12 | B23: ='CONCENTRADO CALIDAD SERVICIO'!B22 -> NOMBRE DEL FUNCIONARIO | G23: =10-((C23+D23+E23+F23)*1.5) -> 10 | L23: =10-((H23+I23+J23+K23)*1.5) -> 10 | Q23: =10-((M23+N23+O23+P23)*1.5) -> 10 | R23: =(G23+L23+Q23)/3 -> 10
... A26: 15 | B26: ='CONCENTRADO CALIDAD SERVICIO'!B25 -> NOMBRE DEL FUNCIONARIO | G26: =10-((C26+D26+E26+F26)*1.5) -> 10 | L26: =10-((H26+I26+J26+K26)*1.5) -> 10 | Q26: =10-((M26+N26+O26+P26)*1.5) -> 10 | R26: =(G26+L26+Q26)/3 -> 10
A28: Afectación para observaciones del Factor de Consistencia de Captura en MAC OET (1.50)
A29: Afectación para observaciones del Factor de Consistencia de Captura en MAC RM y AAC (0.75)
A30: Capture solo el valor nominal de la frecuencia presentada: 1, 2, 3
A31: Responsables de la verificación de desempeño
C36: Vocal Ejecutivo | H36: Vocal del Registro Federal de Electores
A38: ='CONCENTRADO CALIDAD SERVICIO'!A34 -> INE DERFE Para uso exclusivo de las y los funcionarios de MAC y Vocalías del RFE

Sheet PRODUCTIVIDAD
AM1: JUNTA LOCAL EJECUTIVA
AL2: ='CONCENTRADO CALIDAD SERVICIO'!Z2 -> Colocar el Nombre de la Entidad
AM3: Vocalía del Registro Federal de Electores
A4: ='CONCENTRADO CALIDAD SERVICIO'!B4 -> Distrito | B4: ='CONCENTRADO CALIDAD SERVICIO'!C4 -> 0 | V4: ='CONCENTRADO CALIDAD SERVICIO'!P4 -> Bitácora de Desempeño Módulos de Atención Ciudadana Calidad en el Servicio
A5: ='CALIDAD EN EL SERVICIO'!A8 -> Módulo | B5: ='CONCENTRADO CALIDAD SERVICIO'!J4 -> 0 | AM5: FORMATORESGISTRO CUATRIMESTRAL DEL TIEMPO DE CAPTURA
J6: ='CONCENTRADO CALIDAD SERVICIO'!N6 -> Año | K6: ='CONCENTRADO CALIDAD SERVICIO'!P6 -> 2025 | AM6: ='CONCENTRADO CALIDAD SERVICIO'!P6 -> 2025
E7: ='CONCENTRADO CALIDAD SERVICIO'!G5 -> ENE-ABR | F7: ='CONCENTRADO CALIDAD SERVICIO'!H5 -> MAY-AGO | G7: ='CONCENTRADO CALIDAD SERVICIO'!I5 -> SEP-DIC | AM7: ='CONCENTRADO CALIDAD SERVICIO'!Z6 -> Versión: 6.6
B8: ='CALIDAD EN EL SERVICIO'!A10 -> Periodo de verificación | C8: ='CONCENTRADO CALIDAD SERVICIO'!C6:F6 -> Cuatrimestre | E8: =IF('CONCENTRADO CALIDAD SERVICIO'!G6 = 0,"",'CONCENTRADO CALIDAD SERVICIO'!G6) | F8: =IF('CONCENTRADO CALIDAD SERVICIO'!I6 = 0,"",'CONCENTRADO CALIDAD SERVICIO'!I6) | G8: =IF('CONCENTRADO CALIDAD SERVICIO'!J6 = 0,"",'CONCENTRADO CALIDAD SERVICIO'!J6) | H8: =IF('CONCENTRADO CALIDAD SERVICIO'!L6 = 0,"",'CONCENTRADO CALIDAD SERVICIO'!L6) -> Tercer Cuatrimestre | X8: ='CONCENTRADO CALIDAD SERVICIO'!Z7 -> Fecha Emisión: Agosto 2024
A9: No. | B9: Nombre | C9: Primer Cuatrimestre | M9: Promedio de captura | N9: Asignación respecto al promedio nacional (Colocar el tiempo ICA) minutos | O9: Segundo Cuatrimestre | Y9: Promedio de captura | Z9: Asignación respecto al promedio nacional (Colocar el tiempo ICA) minutos | AA9: Tercer Cuatrimestre | AK9: Promedio de captura | AL9: Asignación respecto al promedio nacional (Colocar el tiempo ICA) minutos | AM9: Ponderación Anual | AN9: Observaciones
C10: Indicar la semana operativa de mayor captación de trámites durante el cuatrimestre | O10: Indicar la semana operativa de mayor captación de trámites durante el cuatrimestre | AA10: Indicar la semana operativa de mayor captación de trámites durante el cuatrimestre
C11: 1 | D11: 2 | E11: 3 | F11: 4 | G11: 5 | H11: 6 | I11: 7 | J11: 8 | K11: 9 | L11: 10 | O11: 1 | P11: 2 | Q11: 3 | R11: 4 | S11: 5 | T11: 6 | U11: 7 | V11: 8 | W11: 9 | X11: 10 | AA11: 1 | AB11: 2 | AC11: 3 | AD11: 4 | AE11: 5 | AF11: 6 | AG11: 7 | AH11: 8 | AI11: 9 | AJ11: 10
A12: 1 | B12: ='CONCENTRADO CALIDAD SERVICIO'!B11 -> NOMBRE DEL FUNCIONARIO | M12: =SUM(C12:L12)/10 -> 0 | N12: =IF(M12<=11.26, 10, IF(M12<=12.27, 9,IF(M12<=13.28,8, IF(M12>=13.29, 7,)))) -> 10 | Y12: =SUM(O12:X12)/10 -> 0 | Z12: =IF(Y12<=11.26, 10, IF(Y12<=12.27, 9,IF(Y12<=13.28,8, IF(Y12>=13.29, 7,)))) -> 10 | AK12: =SUM(AA12:AJ12)/10 -> 0 | AL12: =IF(AK12<=11.26, 10, IF(AK12<=12.27, 9,IF(AK12<=13.28,8, IF(AK12>=13.29, 7,)))) -> 10 | AM12: =(N12+AL12+Z12)/3 -> 10
A13: 2 | B13: ='CONCENTRADO CALIDAD SERVICIO'!B12 -> NOMBRE DEL FUNCIONARIO | M13: =SUM(C13:L13)/10 -> 0 | N13: =IF(M13<=11.26, 10, IF(M13<=12.27, 9,IF(M13<=13.28,8, IF(M13>=13.29, 7,)))) -> 10 | Y13: =SUM(O13:X13)/10 -> 0 | Z13: =IF(Y13<=11.26, 10, IF(Y13<=12.27, 9,IF(Y13<=13.28,8, IF(Y13>=13.29, 7,)))) -> 10 | AK13: =SUM(AA13:AJ13)/10 -> 0 | AL13: =IF(AK13<=11.26, 10, IF(AK13<=12.27, 9,IF(AK13<=13.28,8, IF(AK13>=13.29, 7,)))) -> 10 | AM13: =(N13+AL13+Z13)/3 -> 10
A14: 3 | B14: ='CONCENTRADO CALIDAD SERVICIO'!B13 -> NOMBRE DEL FUNCIONARIO | M14: =SUM(C14:L14)/10 -> 0 | N14: =IF(M14<=11.26, 10, IF(M14<=12.27, 9,IF(M14<=13.28,8, IF(M14>=13.29, 7,)))) -> 10 | Y14: =SUM(O14:X14)/10 -> 0 | Z14: =IF(Y14<=11.26, 10, IF(Y14<=12.27, 9,IF(Y14<=13.28,8, IF(Y14>=13.29, 7,)))) -> 10 | AK14: =SUM(AA14:AJ14)/10 -> 0 | AL14: =IF(AK14<=11.26, 10, IF(AK14<=12.27, 9,IF(AK14<=13.28,8, IF(AK14>=13.29, 7,)))) -> 10 | AM14: =(N14+AL14+Z14)/3 -> 10
A15: 4 | B15: ='CONCENTRADO CALIDAD SERVICIO'!B14 -> NOMBRE DEL FUNCIONARIO | M15: =SUM(C15:L15)/10 -> 0 | N15: =IF(M15<=11.26, 10, IF(M15<=12.27, 9,IF(M15<=13.28,8, IF(M15>=13.29, 7,)))) -> 10 | Y15: =SUM(O15:X15)/10 -> 0 | Z15: =IF(Y15<=11.26, 10, IF(Y15<=12.27, 9,IF(Y15<=13.28,8, IF(Y15>=13.29, 7,)))) -> 10 | AK15: =SUM(AA15:AJ15)/10 -> 0 | AL15: =IF(AK15<=11.26, 10, IF(AK15<=12.27, 9,IF(AK15<=13.28,8, IF(AK15>=13.29, 7,)))) -> 10 | AM15: =(N15+AL15+Z15)/3 -> 10
A16: 5 | B16: ='CONCENTRADO CALIDAD SERVICIO'!B15 -> NOMBRE DEL FUNCIONARIO | M16: =SUM(C16:L16)/10 -> 0 | N16: =IF(M16<=11.26, 10, IF(M16<=12.27, 9,IF(M16<=13.28,8, IF(M16>=13.29, 7,)))) -> 10 | Y16: =SUM(O16:X16)/10 -> 0 | Z16: =IF(Y16<=11.26, 10, IF(Y16<=12.27, 9,IF(Y16<=13.28,8, IF(Y16>=13.29, 7,)))) -> 10 | AK16: =SUM(AA16:AJ16)/10 -> 0 | AL16: =IF(AK16<=11.26, 10, IF(AK16<=12.27, 9,IF(AK16<=13.28,8, IF(AK16>=13.29, 7,)))) -> 10 | AM16: =(N16+AL16+Z16)/3 -> 10
A17: 6 | B17: ='CONCENTRADO CALIDAD SERVICIO'!B16 -> NOMBRE DEL FUNCIONARIO | M17: =SUM(C17:L17)/10 -> 0 | N17: =IF(M17<=11.26, 10, IF(M17<=12.27, 9,IF(M17<=13.28,8, IF(M17>=13.29, 7,)))) -> 10 | Y17: =SUM(O17:X17)/10 -> 0 | Z17: =IF(Y17<=11.26, 10, IF(Y17<=12.27, 9,IF(Y17<=13.28,8, IF(Y17>=13.29, 7,)))) -> 10 | AK17: =SUM(AA17:AJ17)/10 -> 0 | AL17: =IF(AK17<=11.26, 10, IF(AK17<=12.27, 9,IF(AK17<=13.28,8, IF(AK17>=13.29, 7,)))) -> 10 | AM17: =(N17+AL17+Z17)/3 -> 10
A18: 7 | B18: ='CONCENTRADO CALIDAD SERVICIO'!B17 -> NOMBRE DEL FUNCIONARIO | M18: =SUM(C18:L18)/10 -> 0 | N18: =IF(M18<=11.26, 10, IF(M18<=12.27, 9,IF(M18<=13.28,8, IF(M18>=13.29, 7,)))) -> 10 | Y18: =SUM(O18:X18)/10 -> 0 | Z18: =IF(Y18<=11.26, 10, IF(Y18<=12.27, 9,IF(Y18<=13.28,8, IF(Y18>=13.29, 7,)))) -> 10 | AK18: =SUM(AA18:AJ18)/10 -> 0 | AL18: =IF(AK18<=11.26, 10, IF(AK18<=12.27, 9,IF(AK18<=13.28,8, IF(AK18>=13.29, 7,)))) -> 10 | AM18: =(N18+AL18+Z18)/3 -> 10
A19: 8 | B19: ='CONCENTRADO CALIDAD SERVICIO'!B18 -> NOMBRE DEL FUNCIONARIO | M19: =SUM(C19:L19)/10 -> 0 | N19: =IF(M19<=11.26, 10, IF(M19<=12.27, 9,IF(M19<=13.28,8, IF(M19>=13.29, 7,)))) -> 10 | Y19: =SUM(O19:X19)/10 -> 0 | Z19: =IF(Y19<=11.26, 10, IF(Y19<=12.27, 9,IF(Y19<=13.28,8, IF(Y19>=13.29, 7,)))) -> 10 | AK19: =SUM(AA19:AJ19)/10 -> 0 | AL19: =IF(AK19<=11.26, 10, IF(AK19<=12.27, 9,IF(AK19<=13.28,8, IF(AK19>=13.29, 7,)))) -> 10 | AM19: =(N19+AL19+Z19)/3 -> 10
A20: 9 | B20: ='CONCENTRADO CALIDAD SERVICIO'!B19 -> NOMBRE DEL FUNCIONARIO | M20: =SUM(C20:L20)/10 -> 0 | N20: =IF(M20<=11.26, 10, IF(M20<=12.27, 9,IF(M20<=13.28,8, IF(M20>=13.29, 7,)))) -> 10 | Y20: =SUM(O20:X20)/10 -> 0 | Z20: =IF(Y20<=11.26, 10, IF(Y20<=12.27, 9,IF(Y20<=13.28,8, IF(Y20>=13.29, 7,)))) -> 10 | AK20: =SUM(AA20:AJ20)/10 -> 0 | AL20: =IF(AK20<=11.26, 10, IF(AK20<=12.27, 9,IF(AK20<=13.28,8, IF(AK20>=13.29, 7,)))) -> 10 | AM20: =(N20+AL20+Z20)/3 -> 10
A21: 10 | B21: ='CONCENTRADO CALIDAD SERVICIO'!B20 -> NOMBRE DEL FUNCIONARIO | M21: =SUM(C21:L21)/10 -> 0 | N21: =IF(M21<=11.26, 10, IF(M21<=12.27, 9,IF(M21<=13.28,8, IF(M21>=13.29, 7,)))) -> 10 | Y21: =SUM(O21:X21)/10 -> 0 | Z21: =IF(Y21<=11.26, 10, IF(Y21<=12.27, 9,IF(Y21<=13.28,8, IF(Y21>=13.29, 7,)))) -> 10 | AK21: =SUM(AA21:AJ21)/10 -> 0 | AL21: =IF(AK21<=11.26, 10, IF(AK21<=12.27, 9,IF(AK21<=13.28,8, IF(AK21>=13.29, 7,)))) -> 10 | AM21: =(N21+AL21+Z21)/3 -> 10
A22: 11 | B22: ='CONCENTRADO CALIDAD SERVICIO'!B21 -> NOMBRE DEL FUNCIONARIO | M22: =SUM(C22:L22)/10 -> 0 | N22: =IF(M22<=11.26, 10, IF(M22<=12.27, 9,IF(M22<=13.28,8, IF(M22>=13.29, 7,)))) -> 10 | Y22: =SUM(O22:X22)/10 -> 0 | Z22: =IF(Y22<=11.26, 10, IF(Y22<=12.27, 9,IF(Y22<=13.28,8, IF(Y22>=13.29, 7,)))) -> 10 | AK22: =SUM(AA22:AJ22)/10 -> 0 | AL22: =IF(AK22<=11.26, 10, IF(AK22<=12.27, 9,IF(AK22<=13.28,8, IF(AK22>=13.29, 7,)))) -> 10 | AM22: =(N22+AL22+Z22)/3 -> 10
A23: 12 | B23: ='CONCENTRADO CALIDAD SERVICIO'!B22 -> NOMBRE DEL FUNCIONARIO | M23: =SUM(C23:L23)/10 -> 0 | N23: =IF(M23<=11.26, 10, IF(M23<=12.27, 9,IF(M23<=13.28,8, IF(M23>=13.29, 7,)))) -> 10 | Y23: =SUM(O23:X23)/10 -> 0 | Z23: =IF(Y23<=11.26, 10, IF(Y23<=12.27, 9,IF(Y23<=13.28,8, IF(Y23>=13.29, 7,)))) -> 10 | AK23: =SUM(AA23:AJ23)/10 -> 0 | AL23: =IF(AK23<=11.26, 10, IF(AK23<=12.27, 9,IF(AK23<=13.28,8, IF(AK23>=13.29, 7,)))) -> 10 | AM23: =(N23+AL23+Z23)/3 -> 10
... A26: 15 | B26: ='CONCENTRADO CALIDAD SERVICIO'!B25 -> NOMBRE DEL FUNCIONARIO | M26: =SUM(C26:L26)/10 -> 0 | N26: =IF(M26<=11.26, 10, IF(M26<=12.27, 9,IF(M26<=13.28,8, IF(M26>=13.29, 7,)))) -> 10 | Y26: =SUM(O26:X26)/10 -> 0 | Z26: =IF(Y26<=11.26, 10, IF(Y26<=12.27, 9,IF(Y26<=13.28,8, IF(Y26>=13.29, 7,)))) -> 10 | AK26: =SUM(AA26:AJ26)/10 -> 0 | AL26: =IF(AK26<=11.26, 10, IF(AK26<=12.27, 9,IF(AK26<=13.28,8, IF(AK26>=13.29, 7,)))) -> 10 | AM26: =(N26+AL26+Z26)/3 -> 10
A27: Capture valor nominal y dos decimales correspondientes a la columna Tiempo Total del apartado Captura de Trámite del Reporte Nominativo de Atención Ciudadana Solicitud del SIIRFE-MAC
A28: La ponderación de desempeño de la productividad corresponde a los siguientes rangos:
A29: 10 | B29: Considera el rango menor o igual (colocar el indicador ICA) del promedio de captura
A30: 9 | B30: Considera el rango mayor o igual a (indicador ICA) y menor o igual a (un minuto más) del promedio de captura
A31: 8 | B31: Considera el rango mayor o igual a (dato anterior) y menor o igual (un minuto) más del promedio de captura
A32: 7 | B32: Considera el rango mayor o igual (dato anterior) del promedio de captura
A33: Responsables de la verificación de desempeño
C38: Vocal Ejecutivo | O38: Vocal del Registro Federal de Electores
A39: ='CONCENTRADO CALIDAD SERVICIO'!$A$34 -> INE DERFE Para uso exclusivo de las y los funcionarios de MAC y Vocalías del RFE
